Package: AnVILBase Version: 1.5.1 Command: /home/biocbuild/bbs-3.23-bioc/R/bin/R CMD build --keep-empty-dirs --no-resave-data AnVILBase StartedAt: 2025-11-13 16:12:26 -0500 (Thu, 13 Nov 2025) EndedAt: 2025-11-13 16:12:32 -0500 (Thu, 13 Nov 2025) EllapsedTime: 6.0 seconds RetCode: 0 Status: OK PackageFile: AnVILBase_1.5.1.tar.gz PackageFileSize: 227.9 KiB