Package: AnVILBase Version: 1.5.1 Command: /Library/Frameworks/R.framework/Resources/bin/R CMD INSTALL AnVILBase StartedAt: 2025-11-13 15:05:09 -0500 (Thu, 13 Nov 2025) EndedAt: 2025-11-13 15:05:12 -0500 (Thu, 13 Nov 2025) EllapsedTime: 3.7 seconds RetCode: 0 Status: OK