Package: AnVILBase Version: 1.5.1 Command: /Library/Frameworks/R.framework/Resources/bin/R CMD build --keep-empty-dirs --no-resave-data AnVILBase StartedAt: 2025-11-13 15:41:18 -0500 (Thu, 13 Nov 2025) EndedAt: 2025-11-13 15:41:21 -0500 (Thu, 13 Nov 2025) EllapsedTime: 3.0 seconds RetCode: 0 Status: OK PackageFile: AnVILBase_1.5.1.tar.gz PackageFileSize: 227.9 KiB