Package: AnVILBase Version: 1.5.1 Command: rm -rf AnVILBase.buildbin-libdir && mkdir AnVILBase.buildbin-libdir && /Users/biocbuild/BBS/utils/build-universal.sh AnVILBase_1.5.1.tar.gz /Library/Frameworks/R.framework/Resources/bin/R AnVILBase.buildbin-libdir StartedAt: 2025-11-13 23:27:42 -0500 (Thu, 13 Nov 2025) EndedAt: 2025-11-13 23:27:45 -0500 (Thu, 13 Nov 2025) EllapsedTime: 3.1 seconds RetCode: 0 Status: OK PackageFile: AnVILBase_1.5.1.tgz PackageFileSize: 309.9 KiB