Package: AnVILBase Version: 1.5.1 Maintainer: Marcel Ramos MaintainerEmail: marcel.ramos at sph.cuny.edu git_url: https://git.bioconductor.org/packages/AnVILBase git_branch: devel git_last_commit: fb8f175 git_last_commit_date: 2025-11-10 12:20:41 -0500 (Mon, 10 Nov 2025)