Back to Build/check report for BioC 3.23:   simplified   long
[A]BCDEFGHIJKLMNOPQRSTUVWXYZ

This page was generated on 2025-11-13 11:32 -0500 (Thu, 13 Nov 2025).

HostnameOSArch (*)R versionInstalled pkgs
kjohnson3macOS 13.7.7 Venturaarm64R Under development (unstable) (2025-11-04 r88984) -- "Unsuffered Consequences" 4013
Click on any hostname to see more info about the system (e.g. compilers)      (*) as reported by 'uname -p', except on Windows and Mac OS X

All results for package AnVILBase


To the developers/maintainers of the AnVILBase package:
- Allow up to 24 hours (and sometimes 48 hours) for your latest push to git@git.bioconductor.org:packages/AnVILBase.git to reflect on this report. See Troubleshooting Build Report for more information.
- Use the following Renviron settings to reproduce errors and warnings.
- If 'R CMD check' started to fail recently on the Linux builder(s) over a missing dependency, add the missing dependency to 'Suggests:' in your DESCRIPTION file. See Renviron.bioc for more information.

raw results

Package 86/2325HostnameOS / ArchINSTALLBUILDCHECKBUILD BIN
AnVILBase 1.5.1  (landing page)
Marcel Ramos
Snapshot Date: 2025-11-12 13:40 -0500 (Wed, 12 Nov 2025)
git_url: https://git.bioconductor.org/packages/AnVILBase
git_branch: devel
git_last_commit: fb8f175
git_last_commit_date: 2025-11-10 12:20:41 -0500 (Mon, 10 Nov 2025)
kjohnson3macOS 13.7.7 Ventura / arm64  OK    OK    OK    OK  YES



Results for Bioconductor software packages that depend directly on package AnVILBase

QUICK STATSOS / ArchINSTALLBUILDCHECKBUILD BIN
kjohnson3macOS 13.7.7 Ventura / arm64
005
023
0003
003
Package 1/5HostnameOS / ArchINSTALLBUILDCHECKBUILD BIN
AnVIL 1.23.0  (landing page)
Marcel Ramos
git_last_commit: b498d04
git_last_commit_date: 2025-10-29 19:20:07 -0500
kjohnson3macOS 13.7.7 Ventura / arm64  OK    ERROR  skippedskipped
Package 2/5HostnameOS / ArchINSTALLBUILDCHECKBUILD BIN
AnVILAz 1.5.0  (landing page)
Marcel Ramos
git_last_commit: 600e7af
git_last_commit_date: 2025-10-29 11:31:07 -0500
kjohnson3macOS 13.7.7 Ventura / arm64  OK    OK    OK    OK  YES
Package 3/5HostnameOS / ArchINSTALLBUILDCHECKBUILD BIN
AnVILGCP 1.5.2  (landing page)
Marcel Ramos
git_last_commit: 3081ee6
git_last_commit_date: 2025-11-10 12:46:55 -0500
kjohnson3macOS 13.7.7 Ventura / arm64  OK    OK    OK    OK  YES
Package 4/5HostnameOS / ArchINSTALLBUILDCHECKBUILD BIN
AnVILWorkflow 1.11.0  (landing page)
Sehyun Oh
git_last_commit: 46f2772
git_last_commit_date: 2025-10-29 11:21:05 -0500
kjohnson3macOS 13.7.7 Ventura / arm64  OK    ERROR  skippedskipped
Package 5/5HostnameOS / ArchINSTALLBUILDCHECKBUILD BIN
GCPtools 1.1.0  (landing page)
Marcel Ramos
git_last_commit: 0bae1dc
git_last_commit_date: 2025-10-29 11:36:55 -0500
kjohnson3macOS 13.7.7 Ventura / arm64  OK    OK    OK    OK  YES