Package: AnVILAz Version: 1.5.0 Command: /Library/Frameworks/R.framework/Resources/bin/R CMD INSTALL AnVILAz StartedAt: 2025-11-13 15:05:12 -0500 (Thu, 13 Nov 2025) EndedAt: 2025-11-13 15:05:15 -0500 (Thu, 13 Nov 2025) EllapsedTime: 2.2 seconds RetCode: 0 Status: OK