Package: AnVILAz Version: 1.5.0 Command: /Library/Frameworks/R.framework/Resources/bin/R CMD build --keep-empty-dirs --no-resave-data AnVILAz StartedAt: 2025-11-13 15:41:18 -0500 (Thu, 13 Nov 2025) EndedAt: 2025-11-13 15:41:23 -0500 (Thu, 13 Nov 2025) EllapsedTime: 5.1 seconds RetCode: 0 Status: OK PackageFile: AnVILAz_1.5.0.tar.gz PackageFileSize: 826.2 KiB