Package: AnVILAz Version: 1.5.0 Command: rm -rf AnVILAz.buildbin-libdir && mkdir AnVILAz.buildbin-libdir && /Users/biocbuild/BBS/utils/build-universal.sh AnVILAz_1.5.0.tar.gz /Library/Frameworks/R.framework/Resources/bin/R AnVILAz.buildbin-libdir StartedAt: 2025-11-13 23:27:42 -0500 (Thu, 13 Nov 2025) EndedAt: 2025-11-13 23:27:45 -0500 (Thu, 13 Nov 2025) EllapsedTime: 3.1 seconds RetCode: 0 Status: OK PackageFile: AnVILAz_1.5.0.tgz PackageFileSize: 831.2 KiB