Package: AnVILAz Version: 1.5.0 Maintainer: Marcel Ramos MaintainerEmail: marcel.ramos at sph.cuny.edu git_url: https://git.bioconductor.org/packages/AnVILAz git_branch: devel git_last_commit: 600e7af git_last_commit_date: 2025-10-29 11:31:07 -0500 (Wed, 29 Oct 2025)