Package: AlphaMissenseR Version: 1.7.0 Command: /Library/Frameworks/R.framework/Resources/bin/R CMD build --keep-empty-dirs --no-resave-data AlphaMissenseR StartedAt: 2025-11-12 15:47:47 -0500 (Wed, 12 Nov 2025) EndedAt: 2025-11-12 15:48:34 -0500 (Wed, 12 Nov 2025) EllapsedTime: 47.6 seconds RetCode: 0 Status: OK PackageFile: AlphaMissenseR_1.7.0.tar.gz PackageFileSize: 2.793 MiB