Package: AlphaMissenseR Version: 1.7.0 Maintainer: Martin Morgan MaintainerEmail: mtmorgan.xyz at gmail.com git_url: https://git.bioconductor.org/packages/AlphaMissenseR git_branch: devel git_last_commit: 3b50759 git_last_commit_date: 2025-10-29 11:27:01 -0500 (Wed, 29 Oct 2025)