Package: AlphaBeta Version: 1.25.0 Command: /home/biocbuild/bbs-3.23-bioc/R/bin/R CMD INSTALL AlphaBeta StartedAt: 2025-11-13 15:08:46 -0500 (Thu, 13 Nov 2025) EndedAt: 2025-11-13 15:08:59 -0500 (Thu, 13 Nov 2025) EllapsedTime: 13.2 seconds RetCode: 0 Status: OK