Package: AlphaBeta Version: 1.25.0 Command: /home/biocbuild/bbs-3.23-bioc/R/bin/R CMD build --keep-empty-dirs --no-resave-data AlphaBeta StartedAt: 2025-11-11 16:14:05 -0500 (Tue, 11 Nov 2025) EndedAt: 2025-11-11 16:18:14 -0500 (Tue, 11 Nov 2025) EllapsedTime: 249.3 seconds RetCode: 0 Status: OK PackageFile: AlphaBeta_1.25.0.tar.gz PackageFileSize: 2.475 MiB