Package: AlphaBeta Version: 1.25.0 Command: /Library/Frameworks/R.framework/Resources/bin/R CMD INSTALL AlphaBeta StartedAt: 2025-11-13 15:05:01 -0500 (Thu, 13 Nov 2025) EndedAt: 2025-11-13 15:05:11 -0500 (Thu, 13 Nov 2025) EllapsedTime: 9.2 seconds RetCode: 0 Status: OK