Package: AlphaBeta Version: 1.25.0 Command: /Library/Frameworks/R.framework/Resources/bin/R CMD build --keep-empty-dirs --no-resave-data AlphaBeta StartedAt: 2025-11-13 15:39:49 -0500 (Thu, 13 Nov 2025) EndedAt: 2025-11-13 15:41:21 -0500 (Thu, 13 Nov 2025) EllapsedTime: 92.0 seconds RetCode: 0 Status: OK PackageFile: AlphaBeta_1.25.0.tar.gz PackageFileSize: 2.505 MiB