Package: AlphaBeta Version: 1.25.0 Command: rm -rf AlphaBeta.buildbin-libdir && mkdir AlphaBeta.buildbin-libdir && /Users/biocbuild/BBS/utils/build-universal.sh AlphaBeta_1.25.0.tar.gz /Library/Frameworks/R.framework/Resources/bin/R AlphaBeta.buildbin-libdir StartedAt: 2025-11-13 23:27:20 -0500 (Thu, 13 Nov 2025) EndedAt: 2025-11-13 23:27:28 -0500 (Thu, 13 Nov 2025) EllapsedTime: 8.1 seconds RetCode: 0 Status: OK PackageFile: AlphaBeta_1.25.0.tgz PackageFileSize: 2.704 MiB