Package: AgiMicroRna Version: 2.61.0 Command: /Library/Frameworks/R.framework/Resources/bin/R CMD INSTALL AgiMicroRna StartedAt: 2025-11-23 15:25:36 -0500 (Sun, 23 Nov 2025) EndedAt: 2025-11-23 15:26:02 -0500 (Sun, 23 Nov 2025) EllapsedTime: 26.5 seconds RetCode: 0 Status: OK