Package: AgiMicroRna Version: 2.61.0 Command: /Library/Frameworks/R.framework/Resources/bin/R CMD build --keep-empty-dirs --no-resave-data AgiMicroRna StartedAt: 2025-11-23 15:36:08 -0500 (Sun, 23 Nov 2025) EndedAt: 2025-11-23 15:36:56 -0500 (Sun, 23 Nov 2025) EllapsedTime: 48.5 seconds RetCode: 0 Status: OK PackageFile: AgiMicroRna_2.61.0.tar.gz PackageFileSize: 3.067 MiB