Package: AgiMicroRna Version: 2.61.0 Command: rm -rf AgiMicroRna.buildbin-libdir && mkdir AgiMicroRna.buildbin-libdir && /Users/biocbuild/BBS/utils/build-universal.sh AgiMicroRna_2.61.0.tar.gz /Library/Frameworks/R.framework/Resources/bin/R AgiMicroRna.buildbin-libdir StartedAt: 2025-11-23 23:24:59 -0500 (Sun, 23 Nov 2025) EndedAt: 2025-11-23 23:25:30 -0500 (Sun, 23 Nov 2025) EllapsedTime: 31.7 seconds RetCode: 0 Status: OK PackageFile: AgiMicroRna_2.61.0.tgz PackageFileSize: 3.523 MiB