Package: AffiXcan Version: 1.29.0 Command: /Library/Frameworks/R.framework/Resources/bin/R CMD INSTALL AffiXcan StartedAt: 2025-11-23 15:14:09 -0500 (Sun, 23 Nov 2025) EndedAt: 2025-11-23 15:14:19 -0500 (Sun, 23 Nov 2025) EllapsedTime: 9.4 seconds RetCode: 0 Status: OK