Package: AffiXcan Version: 1.29.0 Command: /Library/Frameworks/R.framework/Resources/bin/R CMD build --keep-empty-dirs --no-resave-data AffiXcan StartedAt: 2025-11-23 15:35:42 -0500 (Sun, 23 Nov 2025) EndedAt: 2025-11-23 15:35:57 -0500 (Sun, 23 Nov 2025) EllapsedTime: 15.2 seconds RetCode: 1 Status: ERROR PackageFile: None PackageFileSize: NA