Package: AWFisher Version: 1.25.0 Command: /Library/Frameworks/R.framework/Resources/bin/R CMD INSTALL AWFisher StartedAt: 2025-11-14 15:03:52 -0500 (Fri, 14 Nov 2025) EndedAt: 2025-11-14 15:04:01 -0500 (Fri, 14 Nov 2025) EllapsedTime: 9.0 seconds RetCode: 0 Status: OK