Package: AWFisher Version: 1.25.0 Command: /Library/Frameworks/R.framework/Resources/bin/R CMD build --keep-empty-dirs --no-resave-data AWFisher StartedAt: 2025-11-14 15:40:10 -0500 (Fri, 14 Nov 2025) EndedAt: 2025-11-14 15:40:23 -0500 (Fri, 14 Nov 2025) EllapsedTime: 12.1 seconds RetCode: 0 Status: OK PackageFile: AWFisher_1.25.0.tar.gz PackageFileSize: 1.399 MiB