Package: AWFisher Version: 1.25.0 Maintainer: Zhiguang Huo MaintainerEmail: zhuo at ufl.edu git_url: https://git.bioconductor.org/packages/AWFisher git_branch: devel git_last_commit: 4a1aa4a git_last_commit_date: 2025-10-29 10:53:01 -0500 (Wed, 29 Oct 2025)