Package: AWAggregator Version: 1.1.0 Command: /home/biocbuild/bbs-3.23-bioc/R/bin/R CMD build --keep-empty-dirs --no-resave-data AWAggregator StartedAt: 2025-11-13 16:16:10 -0500 (Thu, 13 Nov 2025) EndedAt: 2025-11-13 16:21:16 -0500 (Thu, 13 Nov 2025) EllapsedTime: 306.4 seconds RetCode: 0 Status: OK PackageFile: AWAggregator_1.1.0.tar.gz PackageFileSize: 273.6 KiB