Package: AWAggregator Version: 1.1.0 Command: /Library/Frameworks/R.framework/Resources/bin/R CMD INSTALL AWAggregator StartedAt: 2025-11-13 15:05:52 -0500 (Thu, 13 Nov 2025) EndedAt: 2025-11-13 15:05:58 -0500 (Thu, 13 Nov 2025) EllapsedTime: 5.9 seconds RetCode: 0 Status: OK