Package: AWAggregator Version: 1.1.0 Command: /Library/Frameworks/R.framework/Resources/bin/R CMD check --install=check:AWAggregator.install-out.txt --library=/Library/Frameworks/R.framework/Resources/library --no-vignettes --timings AWAggregator_1.1.0.tar.gz StartedAt: 2025-11-14 18:31:32 -0500 (Fri, 14 Nov 2025) EndedAt: 2025-11-14 18:33:09 -0500 (Fri, 14 Nov 2025) EllapsedTime: 96.4 seconds RetCode: 0 Status: OK CheckDir: AWAggregator.Rcheck Warnings: 0