Package: ATACseqTFEA Version: 1.13.0 Command: /home/biocbuild/bbs-3.23-bioc/R/bin/R CMD build --keep-empty-dirs --no-resave-data ATACseqTFEA StartedAt: 2025-11-13 16:14:46 -0500 (Thu, 13 Nov 2025) EndedAt: 2025-11-13 16:16:35 -0500 (Thu, 13 Nov 2025) EllapsedTime: 109.1 seconds RetCode: 0 Status: OK PackageFile: ATACseqTFEA_1.13.0.tar.gz PackageFileSize: 4.47 MiB