Package: ATACseqTFEA Version: 1.13.0 Command: /Library/Frameworks/R.framework/Resources/bin/R CMD INSTALL ATACseqTFEA StartedAt: 2025-11-14 15:27:05 -0500 (Fri, 14 Nov 2025) EndedAt: 2025-11-14 15:27:22 -0500 (Fri, 14 Nov 2025) EllapsedTime: 16.9 seconds RetCode: 0 Status: OK