Package: ATACseqTFEA Version: 1.13.0 Command: /Library/Frameworks/R.framework/Resources/bin/R CMD build --keep-empty-dirs --no-resave-data ATACseqTFEA StartedAt: 2025-11-14 15:39:20 -0500 (Fri, 14 Nov 2025) EndedAt: 2025-11-14 15:40:01 -0500 (Fri, 14 Nov 2025) EllapsedTime: 41.4 seconds RetCode: 0 Status: OK PackageFile: ATACseqTFEA_1.13.0.tar.gz PackageFileSize: 4.411 MiB