Package: ATACseqTFEA Version: 1.13.0 Command: rm -rf ATACseqTFEA.buildbin-libdir && mkdir ATACseqTFEA.buildbin-libdir && /Users/biocbuild/BBS/utils/build-universal.sh ATACseqTFEA_1.13.0.tar.gz /Library/Frameworks/R.framework/Resources/bin/R ATACseqTFEA.buildbin-libdir StartedAt: 2025-11-14 23:23:04 -0500 (Fri, 14 Nov 2025) EndedAt: 2025-11-14 23:23:26 -0500 (Fri, 14 Nov 2025) EllapsedTime: 21.4 seconds RetCode: 0 Status: OK PackageFile: ATACseqTFEA_1.13.0.tgz PackageFileSize: 4.862 MiB