Package: ATACseqQC Version: 1.35.0 Command: /home/biocbuild/bbs-3.23-bioc/R/bin/R CMD build --keep-empty-dirs --no-resave-data ATACseqQC StartedAt: 2025-11-14 16:15:24 -0500 (Fri, 14 Nov 2025) EndedAt: 2025-11-14 16:18:57 -0500 (Fri, 14 Nov 2025) EllapsedTime: 212.2 seconds RetCode: 0 Status: OK PackageFile: ATACseqQC_1.35.0.tar.gz PackageFileSize: 14.52 MiB