Package: ATACseqQC Version: 1.35.0 Command: /Library/Frameworks/R.framework/Resources/bin/R CMD build --keep-empty-dirs --no-resave-data ATACseqQC StartedAt: 2025-11-13 15:42:23 -0500 (Thu, 13 Nov 2025) EndedAt: 2025-11-13 15:43:59 -0500 (Thu, 13 Nov 2025) EllapsedTime: 96.1 seconds RetCode: 0 Status: OK PackageFile: ATACseqQC_1.35.0.tar.gz PackageFileSize: 14.79 MiB