Package: ATACseqQC Version: 1.35.0 Command: rm -rf ATACseqQC.buildbin-libdir && mkdir ATACseqQC.buildbin-libdir && /Users/biocbuild/BBS/utils/build-universal.sh ATACseqQC_1.35.0.tar.gz /Library/Frameworks/R.framework/Resources/bin/R ATACseqQC.buildbin-libdir StartedAt: 2025-11-13 23:28:00 -0500 (Thu, 13 Nov 2025) EndedAt: 2025-11-13 23:28:29 -0500 (Thu, 13 Nov 2025) EllapsedTime: 29.6 seconds RetCode: 0 Status: OK PackageFile: ATACseqQC_1.35.0.tgz PackageFileSize: 14.24 MiB