Package: ASURAT Version: 1.15.0 Command: /Library/Frameworks/R.framework/Resources/bin/R CMD INSTALL ASURAT StartedAt: 2025-11-14 15:15:22 -0500 (Fri, 14 Nov 2025) EndedAt: 2025-11-14 15:15:34 -0500 (Fri, 14 Nov 2025) EllapsedTime: 12.5 seconds RetCode: 0 Status: OK