Package: ASURAT Version: 1.15.0 Command: /Library/Frameworks/R.framework/Resources/bin/R CMD build --keep-empty-dirs --no-resave-data ASURAT StartedAt: 2025-11-14 15:39:17 -0500 (Fri, 14 Nov 2025) EndedAt: 2025-11-14 15:44:49 -0500 (Fri, 14 Nov 2025) EllapsedTime: 332.6 seconds RetCode: 0 Status: OK PackageFile: ASURAT_1.15.0.tar.gz PackageFileSize: 1.769 MiB