Package: ASSIGN Version: 1.47.0 Command: /home/biocbuild/bbs-3.23-bioc/R/bin/R CMD INSTALL ASSIGN StartedAt: 2025-11-14 15:29:27 -0500 (Fri, 14 Nov 2025) EndedAt: 2025-11-14 15:29:30 -0500 (Fri, 14 Nov 2025) EllapsedTime: 3.2 seconds RetCode: 0 Status: OK