Package: ASSIGN Version: 1.47.0 Command: /home/biocbuild/bbs-3.23-bioc/R/bin/R CMD build --keep-empty-dirs --no-resave-data ASSIGN StartedAt: 2025-11-14 16:15:18 -0500 (Fri, 14 Nov 2025) EndedAt: 2025-11-14 16:15:24 -0500 (Fri, 14 Nov 2025) EllapsedTime: 6.0 seconds RetCode: 0 Status: OK PackageFile: ASSIGN_1.47.0.tar.gz PackageFileSize: 1.621 MiB