Package: ASSIGN Version: 1.47.0 Command: /Library/Frameworks/R.framework/Resources/bin/R CMD INSTALL ASSIGN StartedAt: 2025-11-14 15:10:16 -0500 (Fri, 14 Nov 2025) EndedAt: 2025-11-14 15:10:17 -0500 (Fri, 14 Nov 2025) EllapsedTime: 1.3 seconds RetCode: 0 Status: OK