Package: ASSIGN Version: 1.47.0 Command: /Library/Frameworks/R.framework/Resources/bin/R CMD build --keep-empty-dirs --no-resave-data ASSIGN StartedAt: 2025-11-14 15:39:13 -0500 (Fri, 14 Nov 2025) EndedAt: 2025-11-14 15:39:17 -0500 (Fri, 14 Nov 2025) EllapsedTime: 4.0 seconds RetCode: 0 Status: OK PackageFile: ASSIGN_1.47.0.tar.gz PackageFileSize: 1.621 MiB