Package: ASSIGN Version: 1.47.0 Command: rm -rf ASSIGN.buildbin-libdir && mkdir ASSIGN.buildbin-libdir && /Users/biocbuild/BBS/utils/build-universal.sh ASSIGN_1.47.0.tar.gz /Library/Frameworks/R.framework/Resources/bin/R ASSIGN.buildbin-libdir StartedAt: 2025-11-14 23:23:00 -0500 (Fri, 14 Nov 2025) EndedAt: 2025-11-14 23:23:03 -0500 (Fri, 14 Nov 2025) EllapsedTime: 3.1 seconds RetCode: 0 Status: OK PackageFile: ASSIGN_1.47.0.tgz PackageFileSize: 1.671 MiB