Package: ASSIGN Version: 1.47.0 Maintainer: Ying Shen , W. Evan Johnson MaintainerEmail: wej at bu.edu git_url: https://git.bioconductor.org/packages/ASSIGN git_branch: devel git_last_commit: 37395b4 git_last_commit_date: 2025-10-29 10:18:49 -0500 (Wed, 29 Oct 2025)