Package: ASICS Version: 2.27.0 Command: /home/biocbuild/bbs-3.23-bioc/R/bin/R CMD INSTALL ASICS StartedAt: 2025-11-13 15:21:47 -0500 (Thu, 13 Nov 2025) EndedAt: 2025-11-13 15:22:21 -0500 (Thu, 13 Nov 2025) EllapsedTime: 34.3 seconds RetCode: 0 Status: OK