Package: ASICS Version: 2.27.0 Command: /home/biocbuild/bbs-3.23-bioc/R/bin/R CMD build --keep-empty-dirs --no-resave-data ASICS StartedAt: 2025-11-13 16:14:13 -0500 (Thu, 13 Nov 2025) EndedAt: 2025-11-13 16:17:08 -0500 (Thu, 13 Nov 2025) EllapsedTime: 174.1 seconds RetCode: 0 Status: OK PackageFile: ASICS_2.27.0.tar.gz PackageFileSize: 3.581 MiB