Package: ASICS Version: 2.27.0 Command: /Library/Frameworks/R.framework/Resources/bin/R CMD INSTALL ASICS StartedAt: 2025-11-13 15:13:39 -0500 (Thu, 13 Nov 2025) EndedAt: 2025-11-13 15:13:53 -0500 (Thu, 13 Nov 2025) EllapsedTime: 14.1 seconds RetCode: 0 Status: OK