Package: ASICS Version: 2.27.0 Command: /Library/Frameworks/R.framework/Resources/bin/R CMD build --keep-empty-dirs --no-resave-data ASICS StartedAt: 2025-11-13 15:42:05 -0500 (Thu, 13 Nov 2025) EndedAt: 2025-11-13 15:43:34 -0500 (Thu, 13 Nov 2025) EllapsedTime: 89.0 seconds RetCode: 0 Status: OK PackageFile: ASICS_2.27.0.tar.gz PackageFileSize: 3.581 MiB