Package: ASICS Version: 2.27.0 Command: rm -rf ASICS.buildbin-libdir && mkdir ASICS.buildbin-libdir && /Users/biocbuild/BBS/utils/build-universal.sh ASICS_2.27.0.tar.gz /Library/Frameworks/R.framework/Resources/bin/R ASICS.buildbin-libdir StartedAt: 2025-11-13 23:27:52 -0500 (Thu, 13 Nov 2025) EndedAt: 2025-11-13 23:28:10 -0500 (Thu, 13 Nov 2025) EllapsedTime: 17.4 seconds RetCode: 0 Status: OK PackageFile: ASICS_2.27.0.tgz PackageFileSize: 4.126 MiB