Package: ASICS Version: 2.27.0 Maintainer: Gaƫlle Lefort MaintainerEmail: gaelle.lefort at inrae.fr git_url: https://git.bioconductor.org/packages/ASICS git_branch: devel git_last_commit: 98b3e7f git_last_commit_date: 2025-10-29 10:44:17 -0500 (Wed, 29 Oct 2025)