Package: ASGSCA Version: 1.45.0 Command: /home/biocbuild/bbs-3.23-bioc/R/bin/R CMD INSTALL ASGSCA StartedAt: 2025-11-13 15:05:07 -0500 (Thu, 13 Nov 2025) EndedAt: 2025-11-13 15:05:11 -0500 (Thu, 13 Nov 2025) EllapsedTime: 4.2 seconds RetCode: 0 Status: OK